Package: plyranges Version: 1.27.0 Command: /home/biocbuild/bbs-3.21-bioc/R/bin/R CMD build --keep-empty-dirs --no-resave-data plyranges StartedAt: 2025-02-20 18:43:47 -0500 (Thu, 20 Feb 2025) EndedAt: 2025-02-20 18:44:40 -0500 (Thu, 20 Feb 2025) EllapsedTime: 52.1 seconds RetCode: 0 Status: OK PackageFile: plyranges_1.27.0.tar.gz PackageFileSize: 1.292 MiB