Package: plyranges Version: 1.27.0 Command: /Library/Frameworks/R.framework/Resources/bin/R CMD check --install=check:plyranges.install-out.txt --library=/Library/Frameworks/R.framework/Resources/library --no-vignettes --timings plyranges_1.27.0.tar.gz StartedAt: 2025-02-20 20:44:51 -0500 (Thu, 20 Feb 2025) EndedAt: 2025-02-20 20:46:37 -0500 (Thu, 20 Feb 2025) EllapsedTime: 106.2 seconds RetCode: 1 Status: ERROR CheckDir: plyranges.Rcheck Warnings: NA