Package: plyranges Version: 1.27.0 Command: rm -rf plyranges.buildbin-libdir && mkdir plyranges.buildbin-libdir && /Users/biocbuild/BBS/utils/build-universal.sh plyranges_1.27.0.tar.gz /Library/Frameworks/R.framework/Resources/bin/R plyranges.buildbin-libdir StartedAt: 2025-02-20 22:29:54 -0500 (Thu, 20 Feb 2025) EndedAt: 2025-02-20 22:30:09 -0500 (Thu, 20 Feb 2025) EllapsedTime: 15.3 seconds RetCode: 0 Status: OK PackageFile: plyranges_1.27.0.tgz PackageFileSize: 1.55 MiB