Package: plyinteractions Version: 1.5.0 Command: /home/biocbuild/bbs-3.21-bioc/R/bin/R CMD check --install=check:plyinteractions.install-out.txt --library=/home/biocbuild/bbs-3.21-bioc/R/site-library --timings plyinteractions_1.5.0.tar.gz StartedAt: 2025-02-20 01:14:54 -0500 (Thu, 20 Feb 2025) EndedAt: 2025-02-20 01:30:26 -0500 (Thu, 20 Feb 2025) EllapsedTime: 932.2 seconds RetCode: 0 Status: OK CheckDir: plyinteractions.Rcheck Warnings: 0