Package: plyinteractions Version: 1.5.0 Command: /Library/Frameworks/R.framework/Resources/bin/R CMD build --keep-empty-dirs --no-resave-data plyinteractions StartedAt: 2025-02-20 17:49:02 -0500 (Thu, 20 Feb 2025) EndedAt: 2025-02-20 17:54:58 -0500 (Thu, 20 Feb 2025) EllapsedTime: 356.5 seconds RetCode: 0 Status: OK PackageFile: plyinteractions_1.5.0.tar.gz PackageFileSize: 3.749 MiB