Package: plyinteractions Version: 1.5.0 Command: rm -rf plyinteractions.buildbin-libdir && mkdir plyinteractions.buildbin-libdir && /Users/biocbuild/BBS/utils/build-universal.sh plyinteractions_1.5.0.tar.gz /Library/Frameworks/R.framework/Resources/bin/R plyinteractions.buildbin-libdir StartedAt: 2025-02-21 00:45:42 -0500 (Fri, 21 Feb 2025) EndedAt: 2025-02-21 00:46:34 -0500 (Fri, 21 Feb 2025) EllapsedTime: 52.1 seconds RetCode: 0 Status: OK PackageFile: plyinteractions_1.5.0.tgz PackageFileSize: 4.172 MiB