Package: plotgardener Version: 1.13.0 Command: /Library/Frameworks/R.framework/Resources/bin/R CMD INSTALL plotgardener StartedAt: 2025-02-20 15:17:45 -0500 (Thu, 20 Feb 2025) EndedAt: 2025-02-20 15:18:49 -0500 (Thu, 20 Feb 2025) EllapsedTime: 64.1 seconds RetCode: 0 Status: OK