Package: plotgardener Version: 1.13.0 Command: /Library/Frameworks/R.framework/Resources/bin/R CMD build --keep-empty-dirs --no-resave-data plotgardener StartedAt: 2025-02-20 17:48:48 -0500 (Thu, 20 Feb 2025) EndedAt: 2025-02-20 17:50:03 -0500 (Thu, 20 Feb 2025) EllapsedTime: 75.4 seconds RetCode: 0 Status: OK PackageFile: plotgardener_1.13.0.tar.gz PackageFileSize: 2.848 MiB