Package: plotgardener Version: 1.13.0 Command: /Library/Frameworks/R.framework/Resources/bin/R CMD INSTALL plotgardener StartedAt: 2025-02-21 15:12:17 -0500 (Fri, 21 Feb 2025) EndedAt: 2025-02-21 15:12:36 -0500 (Fri, 21 Feb 2025) EllapsedTime: 18.7 seconds RetCode: 0 Status: OK