Package: plotgardener Version: 1.13.0 Command: /Library/Frameworks/R.framework/Resources/bin/R CMD check --install=check:plotgardener.install-out.txt --library=/Library/Frameworks/R.framework/Resources/library --no-vignettes --timings plotgardener_1.13.0.tar.gz StartedAt: 2025-02-20 20:44:31 -0500 (Thu, 20 Feb 2025) EndedAt: 2025-02-20 20:48:07 -0500 (Thu, 20 Feb 2025) EllapsedTime: 216.6 seconds RetCode: 0 Status: WARNINGS CheckDir: plotgardener.Rcheck Warnings: 1