Package: plotGrouper Version: 1.26.0 Command: /Library/Frameworks/R.framework/Resources/bin/R CMD build --keep-empty-dirs --no-resave-data plotGrouper StartedAt: 2025-10-13 21:35:30 -0400 (Mon, 13 Oct 2025) EndedAt: 2025-10-13 21:35:51 -0400 (Mon, 13 Oct 2025) EllapsedTime: 21.2 seconds RetCode: 0 Status: OK PackageFile: plotGrouper_1.26.0.tar.gz PackageFileSize: 704.6 KiB