Package: plotGrouper Version: 1.25.0 Command: /Library/Frameworks/R.framework/Resources/bin/R CMD build --keep-empty-dirs --no-resave-data plotGrouper StartedAt: 2025-02-18 17:16:56 -0500 (Tue, 18 Feb 2025) EndedAt: 2025-02-18 17:17:00 -0500 (Tue, 18 Feb 2025) EllapsedTime: 4.1 seconds RetCode: 0 Status: OK PackageFile: plotGrouper_1.25.0.tar.gz PackageFileSize: 704.3 KiB