Package: plier Version: 1.77.0 Command: chmod a+r plier -R && E:\biocbuild\bbs-3.21-bioc\R\bin\R.exe CMD build --keep-empty-dirs --no-resave-data plier StartedAt: 2025-02-19 20:48:41 -0500 (Wed, 19 Feb 2025) EndedAt: 2025-02-19 20:48:43 -0500 (Wed, 19 Feb 2025) EllapsedTime: 2.0 seconds RetCode: 0 Status: OK PackageFile: plier_1.77.0.tar.gz PackageFileSize: 20.33 KiB