Package: plier Version: 1.77.0 Command: rm -rf plier.buildbin-libdir && mkdir plier.buildbin-libdir && /Users/biocbuild/BBS/utils/build-universal.sh plier_1.77.0.tar.gz /Library/Frameworks/R.framework/Resources/bin/R plier.buildbin-libdir StartedAt: 2025-02-19 00:39:46 -0500 (Wed, 19 Feb 2025) EndedAt: 2025-02-19 00:39:56 -0500 (Wed, 19 Feb 2025) EllapsedTime: 10.5 seconds RetCode: 0 Status: OK PackageFile: plier_1.77.0.tgz PackageFileSize: 43.55 KiB