Package: plier Version: 1.77.0 Command: /Library/Frameworks/R.framework/Resources/bin/R CMD build --keep-empty-dirs --no-resave-data plier StartedAt: 2025-02-18 17:16:49 -0500 (Tue, 18 Feb 2025) EndedAt: 2025-02-18 17:16:50 -0500 (Tue, 18 Feb 2025) EllapsedTime: 1.0 seconds RetCode: 0 Status: OK PackageFile: plier_1.77.0.tar.gz PackageFileSize: 20.33 KiB