Package: plgem Version: 1.79.0 Command: E:\biocbuild\bbs-3.21-bioc\R\bin\R.exe CMD INSTALL plgem StartedAt: 2025-02-20 15:25:36 -0500 (Thu, 20 Feb 2025) EndedAt: 2025-02-20 15:25:44 -0500 (Thu, 20 Feb 2025) EllapsedTime: 7.7 seconds RetCode: 0 Status: OK