Package: plgem Version: 1.79.0 Command: chmod a+r plgem -R && E:\biocbuild\bbs-3.21-bioc\R\bin\R.exe CMD build --keep-empty-dirs --no-resave-data plgem StartedAt: 2025-02-20 20:51:17 -0500 (Thu, 20 Feb 2025) EndedAt: 2025-02-20 20:51:40 -0500 (Thu, 20 Feb 2025) EllapsedTime: 23.3 seconds RetCode: 0 Status: OK PackageFile: plgem_1.79.0.tar.gz PackageFileSize: 920.3 KiB