Package: plgem Version: 1.79.0 Command: rm -rf plgem.buildbin-libdir && mkdir plgem.buildbin-libdir && E:\biocbuild\bbs-3.21-bioc\R\bin\R.exe CMD INSTALL --build --library=plgem.buildbin-libdir plgem_1.79.0.tar.gz StartedAt: 2025-02-21 08:46:42 -0500 (Fri, 21 Feb 2025) EndedAt: 2025-02-21 08:46:50 -0500 (Fri, 21 Feb 2025) EllapsedTime: 7.2 seconds RetCode: 0 Status: OK PackageFile: plgem_1.79.0.zip PackageFileSize: 1006 KiB