Package: plgem Version: 1.79.0 Command: /Library/Frameworks/R.framework/Resources/bin/R CMD INSTALL plgem StartedAt: 2025-02-20 15:02:27 -0500 (Thu, 20 Feb 2025) EndedAt: 2025-02-20 15:02:33 -0500 (Thu, 20 Feb 2025) EllapsedTime: 6.0 seconds RetCode: 0 Status: OK