Package: plasmut Version: 1.5.0 Command: chmod a+r plasmut -R && E:\biocbuild\bbs-3.21-bioc\R\bin\R.exe CMD build --keep-empty-dirs --no-resave-data plasmut StartedAt: 2025-02-20 20:50:45 -0500 (Thu, 20 Feb 2025) EndedAt: 2025-02-20 20:54:12 -0500 (Thu, 20 Feb 2025) EllapsedTime: 207.0 seconds RetCode: 0 Status: OK PackageFile: plasmut_1.5.0.tar.gz PackageFileSize: 272.9 KiB