Package: plasmut Version: 1.5.0 Command: /home/biocbuild/bbs-3.21-bioc/R/bin/R CMD check --install=check:plasmut.install-out.txt --library=/home/biocbuild/bbs-3.21-bioc/R/site-library --timings plasmut_1.5.0.tar.gz StartedAt: 2025-02-21 00:42:04 -0500 (Fri, 21 Feb 2025) EndedAt: 2025-02-21 00:44:41 -0500 (Fri, 21 Feb 2025) EllapsedTime: 157.3 seconds RetCode: 0 Status: OK CheckDir: plasmut.Rcheck Warnings: 0