Package: plasmut Version: 1.5.0 Command: /home/biocbuild/bbs-3.21-bioc/R/bin/R CMD build --keep-empty-dirs --no-resave-data plasmut StartedAt: 2025-02-20 18:43:13 -0500 (Thu, 20 Feb 2025) EndedAt: 2025-02-20 18:45:25 -0500 (Thu, 20 Feb 2025) EllapsedTime: 131.1 seconds RetCode: 0 Status: OK PackageFile: plasmut_1.5.0.tar.gz PackageFileSize: 355.5 KiB