Package: plasmut Version: 1.5.0 Command: /Library/Frameworks/R.framework/Resources/bin/R CMD INSTALL plasmut StartedAt: 2025-02-20 15:06:04 -0500 (Thu, 20 Feb 2025) EndedAt: 2025-02-20 15:06:26 -0500 (Thu, 20 Feb 2025) EllapsedTime: 22.3 seconds RetCode: 0 Status: OK