Package: plasmut Version: 1.5.0 Command: /Library/Frameworks/R.framework/Resources/bin/R CMD check --install=check:plasmut.install-out.txt --library=/Library/Frameworks/R.framework/Resources/library --no-vignettes --timings plasmut_1.5.0.tar.gz StartedAt: 2025-02-20 22:23:37 -0500 (Thu, 20 Feb 2025) EndedAt: 2025-02-20 22:24:17 -0500 (Thu, 20 Feb 2025) EllapsedTime: 40.3 seconds RetCode: 0 Status: OK CheckDir: plasmut.Rcheck Warnings: 0