Package: plasmut Version: 1.5.0 Command: /Library/Frameworks/R.framework/Resources/bin/R CMD build --keep-empty-dirs --no-resave-data plasmut StartedAt: 2025-02-20 17:48:42 -0500 (Thu, 20 Feb 2025) EndedAt: 2025-02-20 17:50:56 -0500 (Thu, 20 Feb 2025) EllapsedTime: 133.6 seconds RetCode: 0 Status: OK PackageFile: plasmut_1.5.0.tar.gz PackageFileSize: 343.9 KiB