Package: planttfhunter Version: 1.7.0 Command: /Library/Frameworks/R.framework/Resources/bin/R CMD INSTALL planttfhunter StartedAt: 2025-02-20 15:10:10 -0500 (Thu, 20 Feb 2025) EndedAt: 2025-02-20 15:10:42 -0500 (Thu, 20 Feb 2025) EllapsedTime: 32.0 seconds RetCode: 0 Status: OK