Package: planttfhunter Version: 1.7.0 Command: /Library/Frameworks/R.framework/Resources/bin/R CMD build --keep-empty-dirs --no-resave-data planttfhunter StartedAt: 2025-02-20 17:15:21 -0500 (Thu, 20 Feb 2025) EndedAt: 2025-02-20 17:15:36 -0500 (Thu, 20 Feb 2025) EllapsedTime: 15.2 seconds RetCode: 0 Status: OK PackageFile: planttfhunter_1.7.0.tar.gz PackageFileSize: 991.8 KiB