Package: planet Version: 1.15.5 Command: E:\biocbuild\bbs-3.21-bioc\R\bin\R.exe CMD INSTALL planet StartedAt: 2025-02-20 15:20:59 -0500 (Thu, 20 Feb 2025) EndedAt: 2025-02-20 15:21:15 -0500 (Thu, 20 Feb 2025) EllapsedTime: 16.2 seconds RetCode: 0 Status: OK