Package: planet Version: 1.15.5 Command: chmod a+r planet -R && E:\biocbuild\bbs-3.21-bioc\R\bin\R.exe CMD build --keep-empty-dirs --no-resave-data planet StartedAt: 2025-02-20 20:50:30 -0500 (Thu, 20 Feb 2025) EndedAt: 2025-02-20 20:52:08 -0500 (Thu, 20 Feb 2025) EllapsedTime: 97.5 seconds RetCode: 0 Status: OK PackageFile: planet_1.15.5.tar.gz PackageFileSize: 2.713 MiB