Package: planet Version: 1.15.5 Command: rm -rf planet.buildbin-libdir && mkdir planet.buildbin-libdir && /Users/biocbuild/BBS/utils/build-universal.sh planet_1.15.5.tar.gz /Library/Frameworks/R.framework/Resources/bin/R planet.buildbin-libdir StartedAt: 2025-02-19 00:39:38 -0500 (Wed, 19 Feb 2025) EndedAt: 2025-02-19 00:39:47 -0500 (Wed, 19 Feb 2025) EllapsedTime: 9.2 seconds RetCode: 0 Status: OK PackageFile: planet_1.15.5.tgz PackageFileSize: 2.925 MiB