Package: planet Version: 1.15.5 Command: /Library/Frameworks/R.framework/Resources/bin/R CMD INSTALL planet StartedAt: 2025-02-18 15:02:49 -0500 (Tue, 18 Feb 2025) EndedAt: 2025-02-18 15:02:51 -0500 (Tue, 18 Feb 2025) EllapsedTime: 1.8 seconds RetCode: 0 Status: OK