Package: pipeFrame Version: 1.23.0 Command: /home/biocbuild/bbs-3.21-bioc/R/bin/R CMD INSTALL pipeFrame StartedAt: 2025-02-19 15:56:20 -0500 (Wed, 19 Feb 2025) EndedAt: 2025-02-19 15:56:52 -0500 (Wed, 19 Feb 2025) EllapsedTime: 32.0 seconds RetCode: 0 Status: OK