Package: pipeFrame Version: 1.23.0 Command: /Library/Frameworks/R.framework/Resources/bin/R CMD INSTALL pipeFrame StartedAt: 2025-02-19 15:23:04 -0500 (Wed, 19 Feb 2025) EndedAt: 2025-02-19 15:23:46 -0500 (Wed, 19 Feb 2025) EllapsedTime: 42.8 seconds RetCode: 0 Status: OK