Package: pipeFrame Version: 1.23.0 Command: /Library/Frameworks/R.framework/Resources/bin/R CMD build --keep-empty-dirs --no-resave-data pipeFrame StartedAt: 2025-02-19 17:48:46 -0500 (Wed, 19 Feb 2025) EndedAt: 2025-02-19 17:49:46 -0500 (Wed, 19 Feb 2025) EllapsedTime: 60.4 seconds RetCode: 0 Status: OK PackageFile: pipeFrame_1.23.0.tar.gz PackageFileSize: 1.195 MiB