Package: pipeFrame Version: 1.23.0 Command: /Library/Frameworks/R.framework/Resources/bin/R CMD INSTALL pipeFrame StartedAt: 2025-02-19 15:14:50 -0500 (Wed, 19 Feb 2025) EndedAt: 2025-02-19 15:15:03 -0500 (Wed, 19 Feb 2025) EllapsedTime: 13.9 seconds RetCode: 0 Status: OK