Package: pipeComp Version: 1.17.0 Command: /home/biocbuild/bbs-3.21-bioc/R/bin/R CMD build --keep-empty-dirs --no-resave-data pipeComp StartedAt: 2025-02-20 18:42:55 -0500 (Thu, 20 Feb 2025) EndedAt: 2025-02-20 18:44:34 -0500 (Thu, 20 Feb 2025) EllapsedTime: 98.1 seconds RetCode: 0 Status: OK PackageFile: pipeComp_1.17.0.tar.gz PackageFileSize: 3.922 MiB