Package: pipeComp Version: 1.17.0 Command: /Library/Frameworks/R.framework/Resources/bin/R CMD INSTALL pipeComp StartedAt: 2025-02-19 15:40:46 -0500 (Wed, 19 Feb 2025) EndedAt: 2025-02-19 15:42:07 -0500 (Wed, 19 Feb 2025) EllapsedTime: 81.3 seconds RetCode: 0 Status: OK