Package: pickgene Version: 1.79.0 Command: /Library/Frameworks/R.framework/Resources/bin/R CMD build --keep-empty-dirs --no-resave-data pickgene StartedAt: 2025-02-18 17:46:17 -0500 (Tue, 18 Feb 2025) EndedAt: 2025-02-18 17:46:28 -0500 (Tue, 18 Feb 2025) EllapsedTime: 10.3 seconds RetCode: 0 Status: OK PackageFile: pickgene_1.79.0.tar.gz PackageFileSize: 305.5 KiB