Package: pickgene Version: 1.79.0 Command: /home/biocbuild/R/R/bin/R CMD INSTALL pickgene StartedAt: 2025-01-29 19:30:39 -0000 (Wed, 29 Jan 2025) EndedAt: 2025-01-29 19:31:06 -0000 (Wed, 29 Jan 2025) EllapsedTime: 26.9 seconds RetCode: 0 Status: OK