Package: piano Version: 2.23.0 Command: E:\biocbuild\bbs-3.21-bioc\R\bin\R.exe CMD INSTALL piano StartedAt: 2025-02-19 16:29:06 -0500 (Wed, 19 Feb 2025) EndedAt: 2025-02-19 16:29:33 -0500 (Wed, 19 Feb 2025) EllapsedTime: 27.1 seconds RetCode: 0 Status: OK