Package: piano Version: 2.23.0 Command: chmod a+r piano -R && E:\biocbuild\bbs-3.21-bioc\R\bin\R.exe CMD build --keep-empty-dirs --no-resave-data piano StartedAt: 2025-02-19 20:46:33 -0500 (Wed, 19 Feb 2025) EndedAt: 2025-02-19 20:47:22 -0500 (Wed, 19 Feb 2025) EllapsedTime: 49.7 seconds RetCode: 0 Status: OK PackageFile: piano_2.23.0.tar.gz PackageFileSize: 1.534 MiB