Package: piano Version: 2.23.0 Command: /home/biocbuild/bbs-3.21-bioc/R/bin/R CMD build --keep-empty-dirs --no-resave-data piano StartedAt: 2025-02-19 18:38:09 -0500 (Wed, 19 Feb 2025) EndedAt: 2025-02-19 18:38:48 -0500 (Wed, 19 Feb 2025) EllapsedTime: 38.1 seconds RetCode: 0 Status: OK PackageFile: piano_2.23.0.tar.gz PackageFileSize: 1.542 MiB