Package: phyloseq Version: 1.51.0 Command: chmod a+r phyloseq -R && E:\biocbuild\bbs-3.21-bioc\R\bin\R.exe CMD build --keep-empty-dirs --no-resave-data phyloseq StartedAt: 2025-02-20 20:49:23 -0500 (Thu, 20 Feb 2025) EndedAt: 2025-02-20 20:56:18 -0500 (Thu, 20 Feb 2025) EllapsedTime: 414.9 seconds RetCode: 0 Status: OK PackageFile: phyloseq_1.51.0.tar.gz PackageFileSize: 4.044 MiB