Package: phyloseq Version: 1.51.0 Command: rm -rf phyloseq.buildbin-libdir && mkdir phyloseq.buildbin-libdir && E:\biocbuild\bbs-3.21-bioc\R\bin\R.exe CMD INSTALL --build --library=phyloseq.buildbin-libdir phyloseq_1.51.0.tar.gz StartedAt: 2025-02-21 08:46:00 -0500 (Fri, 21 Feb 2025) EndedAt: 2025-02-21 08:47:53 -0500 (Fri, 21 Feb 2025) EllapsedTime: 112.1 seconds RetCode: 0 Status: OK PackageFile: phyloseq_1.51.0.zip PackageFileSize: 4.373 MiB