Package: phyloseq Version: 1.51.0 Command: /home/biocbuild/bbs-3.21-bioc/R/bin/R CMD INSTALL phyloseq StartedAt: 2025-02-21 15:58:28 -0500 (Fri, 21 Feb 2025) EndedAt: 2025-02-21 15:58:52 -0500 (Fri, 21 Feb 2025) EllapsedTime: 24.4 seconds RetCode: 0 Status: OK