Package: phyloseq Version: 1.51.0 Command: /home/biocbuild/bbs-3.21-bioc/R/bin/R CMD build --keep-empty-dirs --no-resave-data phyloseq StartedAt: 2025-02-21 19:03:39 -0500 (Fri, 21 Feb 2025) EndedAt: 2025-02-21 19:05:14 -0500 (Fri, 21 Feb 2025) EllapsedTime: 95.1 seconds RetCode: 0 Status: OK PackageFile: phyloseq_1.51.0.tar.gz PackageFileSize: 6.097 MiB