Package: phyloseq Version: 1.51.0 Command: /Library/Frameworks/R.framework/Resources/bin/R CMD build --keep-empty-dirs --no-resave-data phyloseq StartedAt: 2025-02-20 17:14:46 -0500 (Thu, 20 Feb 2025) EndedAt: 2025-02-20 17:15:26 -0500 (Thu, 20 Feb 2025) EllapsedTime: 39.5 seconds RetCode: 1 Status: ERROR PackageFile: None PackageFileSize: NA