Package: phosphonormalizer Version: 1.31.0 Command: chmod a+r phosphonormalizer -R && E:\biocbuild\bbs-3.21-bioc\R\bin\R.exe CMD build --keep-empty-dirs --no-resave-data phosphonormalizer StartedAt: 2025-02-20 20:49:08 -0500 (Thu, 20 Feb 2025) EndedAt: 2025-02-20 20:49:22 -0500 (Thu, 20 Feb 2025) EllapsedTime: 14.0 seconds RetCode: 0 Status: OK PackageFile: phosphonormalizer_1.31.0.tar.gz PackageFileSize: 2.586 MiB