Package: phosphonormalizer Version: 1.31.0 Command: /home/biocbuild/bbs-3.21-bioc/R/bin/R CMD INSTALL phosphonormalizer StartedAt: 2025-02-20 15:06:09 -0500 (Thu, 20 Feb 2025) EndedAt: 2025-02-20 15:06:12 -0500 (Thu, 20 Feb 2025) EllapsedTime: 2.4 seconds RetCode: 0 Status: OK