Package: phosphonormalizer Version: 1.31.0 Command: /Library/Frameworks/R.framework/Resources/bin/R CMD build --keep-empty-dirs --no-resave-data phosphonormalizer StartedAt: 2025-02-20 17:47:47 -0500 (Thu, 20 Feb 2025) EndedAt: 2025-02-20 17:48:01 -0500 (Thu, 20 Feb 2025) EllapsedTime: 13.7 seconds RetCode: 0 Status: OK PackageFile: phosphonormalizer_1.31.0.tar.gz PackageFileSize: 2.7 MiB